BEGIN:VCALENDAR
VERSION:2.0
PRODID:-//hacksw/handcal//NONSGML v1.0//EN
CALSCALE:GREGORIAN
BEGIN:VEVENT
DTSTART:20161229T110000Z
DTEND:20161229T110000Z
UID:e17768
DTSTAMP:20260422T182624Z
LOCATION:Arthur and Rochelle Belfer Building for Biomedical Research
DESCRIPTION:Engineering Human T Cell Circuitry
SUMMARY:Engineering Human T Cell Circuitry
END:VEVENT
END:VCALENDAR