BEGIN:VCALENDAR
VERSION:2.0
PRODID:-//hacksw/handcal//NONSGML v1.0//EN
CALSCALE:GREGORIAN
BEGIN:VEVENT
DTSTART:20170111T110000Z
DTEND:20170111T110000Z
UID:e17775
DTSTAMP:20260422T093248Z
LOCATION:Helen and Milton A. Kimmelman Building
DESCRIPTION:Special seminar Prof. Aprahamian Ivan
SUMMARY:Special seminar Prof. Aprahamian Ivan
END:VEVENT
END:VCALENDAR