BEGIN:VCALENDAR
VERSION:2.0
PRODID:-//hacksw/handcal//NONSGML v1.0//EN
CALSCALE:GREGORIAN
BEGIN:VEVENT
DTSTART:20170103T093000Z
DTEND:20170103T093000Z
UID:e17777
DTSTAMP:20260421T182257Z
LOCATION:Gerhard M.J. Schmidt Lecture Hall
DESCRIPTION:Coding with Correlated Neurons
SUMMARY:Coding with Correlated Neurons
END:VEVENT
END:VCALENDAR