BEGIN:VCALENDAR
VERSION:2.0
PRODID:-//hacksw/handcal//NONSGML v1.0//EN
CALSCALE:GREGORIAN
BEGIN:VEVENT
DTSTART:20170103T080000Z
DTEND:20170103T080000Z
UID:e17785
DTSTAMP:20260421T213453Z
LOCATION:Sussman Family Building for Environmental Sciences
DESCRIPTION:Active Remote Sensing of the atmosphere
SUMMARY:Active Remote Sensing of the atmosphere
END:VEVENT
END:VCALENDAR