BEGIN:VCALENDAR
VERSION:2.0
PRODID:-//hacksw/handcal//NONSGML v1.0//EN
CALSCALE:GREGORIAN
BEGIN:VEVENT
DTSTART:19691231T160000Z
DTEND:19691231T160000Z
UID:e17786
DTSTAMP:20260422T041857Z
LOCATION:Helen and Milton A. Kimmelman Building
DESCRIPTION:"Copper homeostasis in bacteria cells – exploring cellular metal transfer mechanisms using EPR spectroscopy"
SUMMARY:"Copper homeostasis in bacteria cells – exploring cellular metal transfer mechanisms using EPR spectroscopy"
END:VEVENT
END:VCALENDAR