BEGIN:VCALENDAR
VERSION:2.0
PRODID:-//hacksw/handcal//NONSGML v1.0//EN
CALSCALE:GREGORIAN
BEGIN:VEVENT
DTSTART:20170225T183000Z
DTEND:20170225T183000Z
UID:e17791
DTSTAMP:20260421T213626Z
LOCATION:Michael Sela Auditorium
DESCRIPTION:Amiram Tovim - Stand Up 
SUMMARY:Amiram Tovim - Stand Up 
END:VEVENT
END:VCALENDAR