BEGIN:VCALENDAR
VERSION:2.0
PRODID:-//hacksw/handcal//NONSGML v1.0//EN
CALSCALE:GREGORIAN
BEGIN:VEVENT
DTSTART:20170314T080000Z
DTEND:20170314T093000Z
UID:e17801
DTSTAMP:20260421T213515Z
LOCATION:Dolfi and Lola Ebner Auditorium
DESCRIPTION:Women’s day\, Dorit Beinish\, Lecture in Hebrew
SUMMARY:Women’s day\, Dorit Beinish\, Lecture in Hebrew
END:VEVENT
END:VCALENDAR