BEGIN:VCALENDAR
VERSION:2.0
PRODID:-//hacksw/handcal//NONSGML v1.0//EN
CALSCALE:GREGORIAN
BEGIN:VEVENT
DTSTART:20170111T100000Z
DTEND:20170111T100000Z
UID:e17813
DTSTAMP:20260422T120928Z
LOCATION:
DESCRIPTION: "The Top quark as a window for new physics at the LHC".
SUMMARY: "The Top quark as a window for new physics at the LHC".
END:VEVENT
END:VCALENDAR