BEGIN:VCALENDAR
VERSION:2.0
PRODID:-//hacksw/handcal//NONSGML v1.0//EN
CALSCALE:GREGORIAN
BEGIN:VEVENT
DTSTART:20170117T093000Z
DTEND:20170117T093000Z
UID:e17827
DTSTAMP:20260422T093248Z
LOCATION:Gerhard M.J. Schmidt Lecture Hall
DESCRIPTION:Towards a multi-scale quantification of the structure and function of the neurovascular interface
SUMMARY:Towards a multi-scale quantification of the structure and function of the neurovascular interface
END:VEVENT
END:VCALENDAR