BEGIN:VCALENDAR
VERSION:2.0
PRODID:-//hacksw/handcal//NONSGML v1.0//EN
CALSCALE:GREGORIAN
BEGIN:VEVENT
DTSTART:20170517T070000Z
DTEND:20170517T070000Z
UID:e17853
DTSTAMP:20260420T120005Z
LOCATION:Arthur and Rochelle Belfer Building for Biomedical Research
DESCRIPTION:Counting to One:                      A compartmentalized circuit controls crossover interference in meiosis
SUMMARY:Counting to One:                      A compartmentalized circuit controls crossover interference in meiosis
END:VEVENT
END:VCALENDAR