BEGIN:VCALENDAR
VERSION:2.0
PRODID:-//hacksw/handcal//NONSGML v1.0//EN
CALSCALE:GREGORIAN
BEGIN:VEVENT
DTSTART:20170310T170000Z
DTEND:20170310T170000Z
UID:e17869
DTSTAMP:20260421T172859Z
LOCATION:Michael Sela Auditorium
DESCRIPTION:Nathan's freinds - From Paris with love 
SUMMARY:Nathan's freinds - From Paris with love 
END:VEVENT
END:VCALENDAR