BEGIN:VCALENDAR
VERSION:2.0
PRODID:-//hacksw/handcal//NONSGML v1.0//EN
CALSCALE:GREGORIAN
BEGIN:VEVENT
DTSTART:20170316T143000Z
DTEND:20170316T143000Z
UID:e17870
DTSTAMP:20260421T213504Z
LOCATION:Michael Sela Auditorium
DESCRIPTION:Yuval Hamevulbal - Pinocchio
SUMMARY:Yuval Hamevulbal - Pinocchio
END:VEVENT
END:VCALENDAR