BEGIN:VCALENDAR
VERSION:2.0
PRODID:-//hacksw/handcal//NONSGML v1.0//EN
CALSCALE:GREGORIAN
BEGIN:VEVENT
DTSTART:20170214T081500Z
DTEND:20170214T081500Z
UID:e17913
DTSTAMP:20260422T041858Z
LOCATION:Ullmann Building of Life Sciences
DESCRIPTION:Coordination of auxin triggered leaf initiation by tomato LEAFLESS
SUMMARY:Coordination of auxin triggered leaf initiation by tomato LEAFLESS
END:VEVENT
END:VCALENDAR