BEGIN:VCALENDAR
VERSION:2.0
PRODID:-//hacksw/handcal//NONSGML v1.0//EN
CALSCALE:GREGORIAN
BEGIN:VEVENT
DTSTART:20170209T081500Z
DTEND:20170209T081500Z
UID:e17918
DTSTAMP:20260422T041852Z
LOCATION:Jacob Ziskind Building
DESCRIPTION:Geometric Functional Analysis and Probability Seminar
SUMMARY:Geometric Functional Analysis and Probability Seminar
END:VEVENT
END:VCALENDAR