BEGIN:VCALENDAR
VERSION:2.0
PRODID:-//hacksw/handcal//NONSGML v1.0//EN
CALSCALE:GREGORIAN
BEGIN:VEVENT
DTSTART:20171211T080000Z
DTEND:20171211T091500Z
UID:e17932
DTSTAMP:20260421T224336Z
LOCATION:Gerhard M.J. Schmidt Lecture Hall
DESCRIPTION:Annual Pearlman lecture
SUMMARY:Annual Pearlman lecture
END:VEVENT
END:VCALENDAR