BEGIN:VCALENDAR
VERSION:2.0
PRODID:-//hacksw/handcal//NONSGML v1.0//EN
CALSCALE:GREGORIAN
BEGIN:VEVENT
DTSTART:20170215T090000Z
DTEND:20170215T100000Z
UID:e17947
DTSTAMP:20260420T034202Z
LOCATION:Gerhard M.J. Schmidt Lecture Hall
DESCRIPTION:Spotlight on Science: Atoms of recognition in human and computer vision
SUMMARY:Spotlight on Science: Atoms of recognition in human and computer vision
END:VEVENT
END:VCALENDAR