BEGIN:VCALENDAR
VERSION:2.0
PRODID:-//hacksw/handcal//NONSGML v1.0//EN
CALSCALE:GREGORIAN
BEGIN:VEVENT
DTSTART:20170216T110000Z
DTEND:20170216T120000Z
UID:e17952
DTSTAMP:20260420T115931Z
LOCATION:Max and Lillian Candiotty Building
DESCRIPTION:Protein Kinase A (PKA) isoform specificity: from single molecules to the brain
SUMMARY:Protein Kinase A (PKA) isoform specificity: from single molecules to the brain
END:VEVENT
END:VCALENDAR