BEGIN:VCALENDAR
VERSION:2.0
PRODID:-//hacksw/handcal//NONSGML v1.0//EN
CALSCALE:GREGORIAN
BEGIN:VEVENT
DTSTART:20170227T081500Z
DTEND:20170227T081500Z
UID:e17984
DTSTAMP:20260423T052132Z
LOCATION:Ullmann Building of Life Sciences
DESCRIPTION:Lessons learned from membrane protein interactions
SUMMARY:Lessons learned from membrane protein interactions
END:VEVENT
END:VCALENDAR