BEGIN:VCALENDAR
VERSION:2.0
PRODID:-//hacksw/handcal//NONSGML v1.0//EN
CALSCALE:GREGORIAN
BEGIN:VEVENT
DTSTART:20170309T080000Z
DTEND:20170309T090000Z
UID:e17993
DTSTAMP:20260421T223119Z
LOCATION:Perlman Chemical Sciences Building
DESCRIPTION:Molecular semiconductors for LEDs and solar cells: designing around the Coulomb interaction
SUMMARY:Molecular semiconductors for LEDs and solar cells: designing around the Coulomb interaction
END:VEVENT
END:VCALENDAR