BEGIN:VCALENDAR
VERSION:2.0
PRODID:-//hacksw/handcal//NONSGML v1.0//EN
CALSCALE:GREGORIAN
BEGIN:VEVENT
DTSTART:20170315T110000Z
DTEND:20170315T120000Z
UID:e17994
DTSTAMP:20260422T041859Z
LOCATION:Perlman Chemical Sciences Building
DESCRIPTION:Nucleation\, Growth\, and Morphology of Molecularly Thin Organic Films at Planar Solid/Vapor Interfaces Prepared from Solute/Solvent Mixtures
SUMMARY:Nucleation\, Growth\, and Morphology of Molecularly Thin Organic Films at Planar Solid/Vapor Interfaces Prepared from Solute/Solvent Mixtures
END:VEVENT
END:VCALENDAR