BEGIN:VCALENDAR
VERSION:2.0
PRODID:-//hacksw/handcal//NONSGML v1.0//EN
CALSCALE:GREGORIAN
BEGIN:VEVENT
DTSTART:20170312T080000Z
DTEND:20170312T080000Z
UID:e17998
DTSTAMP:20260421T172859Z
LOCATION:Gerhard M.J. Schmidt Lecture Hall
DESCRIPTION:Motor abundance\, compensation and adaptability for upper limb movements after stroke
SUMMARY:Motor abundance\, compensation and adaptability for upper limb movements after stroke
END:VEVENT
END:VCALENDAR