BEGIN:VCALENDAR
VERSION:2.0
PRODID:-//hacksw/handcal//NONSGML v1.0//EN
CALSCALE:GREGORIAN
BEGIN:VEVENT
DTSTART:20170314T110000Z
DTEND:20170314T110000Z
UID:e18000
DTSTAMP:20260422T033913Z
LOCATION:Sussman Family Building for Environmental Sciences
DESCRIPTION:BEYOND PHYSICS: THE EMERGENCE AND EVOLUTION  OF LIFE
SUMMARY:BEYOND PHYSICS: THE EMERGENCE AND EVOLUTION  OF LIFE
END:VEVENT
END:VCALENDAR