BEGIN:VCALENDAR
VERSION:2.0
PRODID:-//hacksw/handcal//NONSGML v1.0//EN
CALSCALE:GREGORIAN
BEGIN:VEVENT
DTSTART:20170313T070000Z
DTEND:20170313T070000Z
UID:e18006
DTSTAMP:20260421T172859Z
LOCATION:Perlman Chemical Sciences Building
DESCRIPTION:"Iridophore Cell Control over Guanine Crystal Orientation is Pre-Determined at the Individual Cell Level "
SUMMARY:"Iridophore Cell Control over Guanine Crystal Orientation is Pre-Determined at the Individual Cell Level "
END:VEVENT
END:VCALENDAR