BEGIN:VCALENDAR
VERSION:2.0
PRODID:-//hacksw/handcal//NONSGML v1.0//EN
CALSCALE:GREGORIAN
BEGIN:VEVENT
DTSTART:20170321T093000Z
DTEND:20170321T093000Z
UID:e18016
DTSTAMP:20260419T185433Z
LOCATION:Gerhard M.J. Schmidt Lecture Hall
DESCRIPTION:Chemical love – The molecular neuroetholgy  of pheromonal communication
SUMMARY:Chemical love – The molecular neuroetholgy  of pheromonal communication
END:VEVENT
END:VCALENDAR