BEGIN:VCALENDAR
VERSION:2.0
PRODID:-//hacksw/handcal//NONSGML v1.0//EN
CALSCALE:GREGORIAN
BEGIN:VEVENT
DTSTART:20171023T120000Z
DTEND:20171023T133000Z
UID:e18074
DTSTAMP:20260421T135029Z
LOCATION:The David Lopatie Conference Centre
DESCRIPTION:2017 Weizmann Memorial Lecture
SUMMARY:2017 Weizmann Memorial Lecture
END:VEVENT
END:VCALENDAR