BEGIN:VCALENDAR
VERSION:2.0
PRODID:-//hacksw/handcal//NONSGML v1.0//EN
CALSCALE:GREGORIAN
BEGIN:VEVENT
DTSTART:20171121T070000Z
DTEND:20171121T080000Z
UID:e18075
DTSTAMP:20260422T041741Z
LOCATION:Arthur and Rochelle Belfer Building for Biomedical Research
DESCRIPTION:"Coordination of microbial metabolism through metabolite-protein interactions” 
SUMMARY:"Coordination of microbial metabolism through metabolite-protein interactions” 
END:VEVENT
END:VCALENDAR