BEGIN:VCALENDAR
VERSION:2.0
PRODID:-//hacksw/handcal//NONSGML v1.0//EN
CALSCALE:GREGORIAN
BEGIN:VEVENT
DTSTART:20171212T070000Z
DTEND:20171212T080000Z
UID:e18078
DTSTAMP:20260421T085535Z
LOCATION:Arthur and Rochelle Belfer Building for Biomedical Research
DESCRIPTION:Accessing the genome: transcription factors as sensors and modifiers of chromatin
SUMMARY:Accessing the genome: transcription factors as sensors and modifiers of chromatin
END:VEVENT
END:VCALENDAR