BEGIN:VCALENDAR
VERSION:2.0
PRODID:-//hacksw/handcal//NONSGML v1.0//EN
CALSCALE:GREGORIAN
BEGIN:VEVENT
DTSTART:19691231T160000Z
DTEND:19691231T160000Z
UID:e18082
DTSTAMP:20260419T100518Z
LOCATION:The David Lopatie Conference Centre
DESCRIPTION:The 71st Annual General Meeting of the International Board
SUMMARY:The 71st Annual General Meeting of the International Board
END:VEVENT
END:VCALENDAR