BEGIN:VCALENDAR
VERSION:2.0
PRODID:-//hacksw/handcal//NONSGML v1.0//EN
CALSCALE:GREGORIAN
BEGIN:VEVENT
DTSTART:20180109T070000Z
DTEND:20180109T080000Z
UID:e18086
DTSTAMP:20260421T085535Z
LOCATION:Arthur and Rochelle Belfer Building for Biomedical Research
DESCRIPTION:Single cell analysis of rare events in cancer
SUMMARY:Single cell analysis of rare events in cancer
END:VEVENT
END:VCALENDAR