BEGIN:VCALENDAR
VERSION:2.0
PRODID:-//hacksw/handcal//NONSGML v1.0//EN
CALSCALE:GREGORIAN
BEGIN:VEVENT
DTSTART:20170619T070000Z
DTEND:20170619T080000Z
UID:e18137
DTSTAMP:20260419T185820Z
LOCATION:Arthur and Rochelle Belfer Building for Biomedical Research
DESCRIPTION:Downregulation of signaling receptors: mechanisms and role in disease
SUMMARY:Downregulation of signaling receptors: mechanisms and role in disease
END:VEVENT
END:VCALENDAR