BEGIN:VCALENDAR
VERSION:2.0
PRODID:-//hacksw/handcal//NONSGML v1.0//EN
CALSCALE:GREGORIAN
BEGIN:VEVENT
DTSTART:20170719T050000Z
DTEND:20170728T050000Z
UID:e18140
DTSTAMP:20260420T195145Z
LOCATION:Nella and Leon Benoziyo Physics Library
DESCRIPTION:SRitp  workshop Hammers and Nails - Machine Learning and HEP
SUMMARY:SRitp  workshop Hammers and Nails - Machine Learning and HEP
END:VEVENT
END:VCALENDAR