BEGIN:VCALENDAR
VERSION:2.0
PRODID:-//hacksw/handcal//NONSGML v1.0//EN
CALSCALE:GREGORIAN
BEGIN:VEVENT
DTSTART:20181118T050000Z
DTEND:20181123T050000Z
UID:e18274
DTSTAMP:20260419T231710Z
LOCATION:The David Lopatie Conference Centre
DESCRIPTION:5th European Conference on Trapped ions
SUMMARY:5th European Conference on Trapped ions
END:VEVENT
END:VCALENDAR