BEGIN:VCALENDAR
VERSION:2.0
PRODID:-//hacksw/handcal//NONSGML v1.0//EN
CALSCALE:GREGORIAN
BEGIN:VEVENT
DTSTART:20170508T070000Z
DTEND:20170508T070000Z
UID:e18281
DTSTAMP:20260419T185438Z
LOCATION:Nella and Leon Benoziyo Building for Brain Research
DESCRIPTION:A Grid in the Brain
SUMMARY:A Grid in the Brain
END:VEVENT
END:VCALENDAR