BEGIN:VCALENDAR
VERSION:2.0
PRODID:-//hacksw/handcal//NONSGML v1.0//EN
CALSCALE:GREGORIAN
BEGIN:VEVENT
DTSTART:20170613T120000Z
DTEND:20170613T130000Z
UID:e18289
DTSTAMP:20260420T003403Z
LOCATION:Arthur and Rochelle Belfer Building for Biomedical Research
DESCRIPTION:Molecular Neuroscience Forum Seminar
SUMMARY:Molecular Neuroscience Forum Seminar
END:VEVENT
END:VCALENDAR