BEGIN:VCALENDAR
VERSION:2.0
PRODID:-//hacksw/handcal//NONSGML v1.0//EN
CALSCALE:GREGORIAN
BEGIN:VEVENT
DTSTART:20170516T110000Z
DTEND:20170516T110000Z
UID:e18311
DTSTAMP:20260421T085125Z
LOCATION:Helen and Milton A. Kimmelman Building
DESCRIPTION:"Single-molecule spectroscopy of the Myc-Max-Mad transcription factor network "
SUMMARY:"Single-molecule spectroscopy of the Myc-Max-Mad transcription factor network "
END:VEVENT
END:VCALENDAR