BEGIN:VCALENDAR
VERSION:2.0
PRODID:-//hacksw/handcal//NONSGML v1.0//EN
CALSCALE:GREGORIAN
BEGIN:VEVENT
DTSTART:20170517T074500Z
DTEND:20170517T074500Z
UID:e18325
DTSTAMP:20260421T085107Z
LOCATION:
DESCRIPTION:You can hide but you have to run: new theory tools to unveil the mystery of dark matter
SUMMARY:You can hide but you have to run: new theory tools to unveil the mystery of dark matter
END:VEVENT
END:VCALENDAR