BEGIN:VCALENDAR
VERSION:2.0
PRODID:-//hacksw/handcal//NONSGML v1.0//EN
CALSCALE:GREGORIAN
BEGIN:VEVENT
DTSTART:20171218T120000Z
DTEND:20171218T150000Z
UID:e18352
DTSTAMP:20260421T173919Z
LOCATION:The David Lopatie Conference Centre
DESCRIPTION:Life Sciences Faculties' Council
SUMMARY:Life Sciences Faculties' Council
END:VEVENT
END:VCALENDAR