BEGIN:VCALENDAR
VERSION:2.0
PRODID:-//hacksw/handcal//NONSGML v1.0//EN
CALSCALE:GREGORIAN
BEGIN:VEVENT
DTSTART:20170809T120000Z
DTEND:20170809T140000Z
UID:e18353
DTSTAMP:20260420T034117Z
LOCATION:The David Lopatie Conference Centre
DESCRIPTION:Council of Professors
SUMMARY:Council of Professors
END:VEVENT
END:VCALENDAR