BEGIN:VCALENDAR
VERSION:2.0
PRODID:-//hacksw/handcal//NONSGML v1.0//EN
CALSCALE:GREGORIAN
BEGIN:VEVENT
DTSTART:20170704T143000Z
DTEND:20170704T143000Z
UID:e18380
DTSTAMP:20260421T085514Z
LOCATION:Michael Sela Auditorium
DESCRIPTION:The lion that loved strawberries- Children's theater 
SUMMARY:The lion that loved strawberries- Children's theater 
END:VEVENT
END:VCALENDAR