BEGIN:VCALENDAR
VERSION:2.0
PRODID:-//hacksw/handcal//NONSGML v1.0//EN
CALSCALE:GREGORIAN
BEGIN:VEVENT
DTSTART:20170720T143000Z
DTEND:20170720T143000Z
UID:e18383
DTSTAMP:20260420T115912Z
LOCATION:Michael Sela Auditorium
DESCRIPTION:Kofico - Children's theater 
SUMMARY:Kofico - Children's theater 
END:VEVENT
END:VCALENDAR