BEGIN:VCALENDAR
VERSION:2.0
PRODID:-//hacksw/handcal//NONSGML v1.0//EN
CALSCALE:GREGORIAN
BEGIN:VEVENT
DTSTART:20170608T110000Z
DTEND:20170608T120000Z
UID:e18395
DTSTAMP:20260420T155027Z
LOCATION:Wolfson Building for Biological Research
DESCRIPTION:IMM Guest Seminar:Prof.Mats Bemark\, “Antigen specific B cell responses in the gut”
SUMMARY:IMM Guest Seminar:Prof.Mats Bemark\, “Antigen specific B cell responses in the gut”
END:VEVENT
END:VCALENDAR