BEGIN:VCALENDAR
VERSION:2.0
PRODID:-//hacksw/handcal//NONSGML v1.0//EN
CALSCALE:GREGORIAN
BEGIN:VEVENT
DTSTART:20170613T093000Z
DTEND:20170613T093000Z
UID:e18402
DTSTAMP:20260420T115915Z
LOCATION:Gerhard M.J. Schmidt Lecture Hall
DESCRIPTION:Clustering of dendritic activity during decision making
SUMMARY:Clustering of dendritic activity during decision making
END:VEVENT
END:VCALENDAR