BEGIN:VCALENDAR
VERSION:2.0
PRODID:-//hacksw/handcal//NONSGML v1.0//EN
CALSCALE:GREGORIAN
BEGIN:VEVENT
DTSTART:20170621T050000Z
DTEND:20170621T050000Z
UID:e18414
DTSTAMP:20260419T182215Z
LOCATION:Max and Lillian Candiotty Building
DESCRIPTION:Weizmann-Korea Workshop
SUMMARY:Weizmann-Korea Workshop
END:VEVENT
END:VCALENDAR