BEGIN:VCALENDAR
VERSION:2.0
PRODID:-//hacksw/handcal//NONSGML v1.0//EN
CALSCALE:GREGORIAN
BEGIN:VEVENT
DTSTART:20170703T093000Z
DTEND:20170703T093000Z
UID:e18418
DTSTAMP:20260421T102848Z
LOCATION:Gerhard M.J. Schmidt Lecture Hall
DESCRIPTION:Neural Representations of Natural Self Motion: Implications for Perception & Action
SUMMARY:Neural Representations of Natural Self Motion: Implications for Perception & Action
END:VEVENT
END:VCALENDAR