BEGIN:VCALENDAR
VERSION:2.0
PRODID:-//hacksw/handcal//NONSGML v1.0//EN
CALSCALE:GREGORIAN
BEGIN:VEVENT
DTSTART:20170731T110000Z
DTEND:20170731T120000Z
UID:e18434
DTSTAMP:20260420T050056Z
LOCATION:Max and Lillian Candiotty Building
DESCRIPTION:Targeting the mitochondria as a novel therapeutic strategies for Acute Myeloid Leukemia
SUMMARY:Targeting the mitochondria as a novel therapeutic strategies for Acute Myeloid Leukemia
END:VEVENT
END:VCALENDAR