BEGIN:VCALENDAR
VERSION:2.0
PRODID:-//hacksw/handcal//NONSGML v1.0//EN
CALSCALE:GREGORIAN
BEGIN:VEVENT
DTSTART:20170626T080000Z
DTEND:20170626T090000Z
UID:e18444
DTSTAMP:20260419T182153Z
LOCATION:Perlman Chemical Sciences Building
DESCRIPTION:The Quantum Design of Photosynthesis
SUMMARY:The Quantum Design of Photosynthesis
END:VEVENT
END:VCALENDAR