BEGIN:VCALENDAR
VERSION:2.0
PRODID:-//hacksw/handcal//NONSGML v1.0//EN
CALSCALE:GREGORIAN
BEGIN:VEVENT
DTSTART:20170704T110000Z
DTEND:20170704T120000Z
UID:e18449
DTSTAMP:20260420T045918Z
LOCATION:Arthur and Rochelle Belfer Building for Biomedical Research
DESCRIPTION:Molecular Neuroscience Forum Seminar
SUMMARY:Molecular Neuroscience Forum Seminar
END:VEVENT
END:VCALENDAR