BEGIN:VCALENDAR
VERSION:2.0
PRODID:-//hacksw/handcal//NONSGML v1.0//EN
CALSCALE:GREGORIAN
BEGIN:VEVENT
DTSTART:20170626T063000Z
DTEND:20170626T093000Z
UID:e18450
DTSTAMP:20260419T182152Z
LOCATION:Camelia Botnar Building
DESCRIPTION:Special mini-symposium on: Quantitative Approaches to Tissue Biology
SUMMARY:Special mini-symposium on: Quantitative Approaches to Tissue Biology
END:VEVENT
END:VCALENDAR