BEGIN:VCALENDAR
VERSION:2.0
PRODID:-//hacksw/handcal//NONSGML v1.0//EN
CALSCALE:GREGORIAN
BEGIN:VEVENT
DTSTART:20170907T110000Z
DTEND:20170907T120000Z
UID:e18459
DTSTAMP:20260420T050054Z
LOCATION:Arthur and Rochelle Belfer Building for Biomedical Research
DESCRIPTION:Mitochondrial biogenesis through protein and lipid trafficking
SUMMARY:Mitochondrial biogenesis through protein and lipid trafficking
END:VEVENT
END:VCALENDAR