BEGIN:VCALENDAR
VERSION:2.0
PRODID:-//hacksw/handcal//NONSGML v1.0//EN
CALSCALE:GREGORIAN
BEGIN:VEVENT
DTSTART:20170812T181500Z
DTEND:20170812T181500Z
UID:e18460
DTSTAMP:20260420T003359Z
LOCATION:Michael Sela Auditorium
DESCRIPTION:Astrith Baltsan - Jerusalem of Gold 
SUMMARY:Astrith Baltsan - Jerusalem of Gold 
END:VEVENT
END:VCALENDAR